BEGIN:VCALENDAR
PRODID:-//suda.co.uk//X2V 0.9.6 (BETA)//EN
X-ORIGINAL-URL:https://inmigracion.jcyl.es/web/jcyl/Inmigracion/es/Plantilla100Detalle/1284221315241/Evento/1284989601131/Comunicacion
X-WR-CALNAME;CHARSET=UTF-8:
VERSION:2.0
METHOD:PUBLISH
BEGIN:VEVENT
DESCRIPTION;CHARSET=UTF-8:Llega a Valladolid la exposición fotográfica \;Descartados \;sobre la situación de exclusión de las personas mayores en El Salvador para conmemorar el día Internacional de las Personas Mayores. Procomar...
LOCATION;CHARSET=UTF-8:Valladolid
SUMMARY;CHARSET=UTF-8:Exposición fotográfica Descartados
UID:20200929T160906Z-1284989601131@jcyl.es
DTSTART;VALUE=DATE-TIME:20200929T151013Z
DTEND;VALUE=DATE-TIME:20201030T220000Z
DTSTAMP:20200929T150906Z
END:VEVENT

END:VCALENDAR
